BEGIN:VCALENDAR
VERSION:2.0
PRODID:-//ChamberMaster//Event Calendar 2.0//EN
METHOD:PUBLISH
X-PUBLISHED-TTL:P3D
REFRESH-INTERVAL:P3D
CALSCALE:GREGORIAN
BEGIN:VEVENT
DTSTART:20240824T170000Z
DTEND:20240824T190000Z
X-MICROSOFT-CDO-ALLDAYEVENT:FALSE
SUMMARY:Roughrider Soccer Home Openers 2024
DESCRIPTION:Cheer on the Roughriders as Men's & Women's Soccer opens their seasons at home Saturday\, August 24.  (601 Laclede Ave.\, Neosho\, MO) Women challenge Neosho County at 12pm\; whereas\, men play Kansas City Kansas at 2pm.\n\n\n\nView their full schedule: www.crowderathletics.com
X-ALT-DESC;FMTTYPE=text/html:Cheer on the Roughriders as Men&#39\;s &amp\; Women&#39\;s Soccer opens their seasons at home Saturday\, August 24.&nbsp\; (601 Laclede Ave.\, Neosho\, MO) Women challenge Neosho County at 12pm\; whereas\, men play Kansas City Kansas at 2pm.<br />\n<br />\nView their full schedule:&nbsp\;<a href="http://www.crowderathletics.com">www.crowderathletics.com</a>
LOCATION:601 Laclede Ave.\, Neosho\, MO 64850
UID:e.2144.12244
SEQUENCE:3
DTSTAMP:20260424T231505Z
URL:https://www.neoshocc.com/events/details/roughrider-soccer-home-openers-2024-12244
END:VEVENT

END:VCALENDAR
