BEGIN:VCALENDAR
VERSION:2.0
PRODID:-//ChamberMaster//Event Calendar 2.0//EN
METHOD:PUBLISH
X-PUBLISHED-TTL:P3D
REFRESH-INTERVAL:P3D
CALSCALE:GREGORIAN
BEGIN:VEVENT
DTSTART;VALUE=DATE:20240512
DTEND;VALUE=DATE:20240701
TRANSP:TRANSPARENT
X-MICROSOFT-CDO-ALLDAYEVENT:TRUE
SUMMARY:Summer Bowling League
DESCRIPTION:Summer League Start up
X-ALT-DESC;FMTTYPE=text/html:Summer League Start up
LOCATION:2811 Gardner Edgewood Dr Neosho\, Missouri 64850
UID:e.2144.11914
SEQUENCE:3
DTSTAMP:20260425T003626Z
URL:https://www.neoshocc.com/events/details/s-11914
END:VEVENT

END:VCALENDAR
