BEGIN:VCALENDAR
VERSION:2.0
PRODID:-//ChamberMaster//Event Calendar 2.0//EN
METHOD:PUBLISH
X-PUBLISHED-TTL:P3D
REFRESH-INTERVAL:P3D
CALSCALE:GREGORIAN
BEGIN:VEVENT
DTSTART:20251215T220000Z
DTEND:20251216T000000Z
X-MICROSOFT-CDO-ALLDAYEVENT:FALSE
SUMMARY:S.T.E.A.M. Lab Galaxy Ornament Craft Night
DESCRIPTION:Check out what we've got planned for S.T.E.A.M. Lab this December! ??\n\n\n\nJoin us to make your own galaxy swirl ornament using one surprising ingredient  baking soda! ????
X-ALT-DESC;FMTTYPE=text/html:Check out what we&rsquo\;ve got planned for S.T.E.A.M. Lab this December! ??<br />\n<br />\nJoin us to make your own galaxy swirl ornament using one surprising ingredient&hellip\; baking soda! ????
LOCATION:201 W Spring St Neosho\, MO 64850
UID:e.2144.18801
SEQUENCE:3
DTSTAMP:20260423T224955Z
URL:https://www.neoshocc.com/events/details/s-t-e-a-m-lab-galaxy-ornament-craft-night-12-15-2025-18801
END:VEVENT

END:VCALENDAR
