BEGIN:VCALENDAR
VERSION:2.0
PRODID:-//ChamberMaster//Event Calendar 2.0//EN
METHOD:PUBLISH
X-PUBLISHED-TTL:P3D
REFRESH-INTERVAL:P3D
CALSCALE:GREGORIAN
BEGIN:VEVENT
DTSTART:20250626T133000Z
DTEND:20250626T203000Z
X-MICROSOFT-CDO-ALLDAYEVENT:FALSE
SUMMARY:Safe Sitter Class - Freeman Health System
DESCRIPTION:Prepare your child with the skills they need to be a responsible and confident babysitter! The Safe Sitter  course teaches essential skills in safety\, first aid\, child care\, and business basics to help students handle real-life situations when caring for young children.\n\nDuring this one-day class\, participants will learn:\n\n  Safety Skills   How to prevent unsafe situations and handle emergencies like power failures or severe weather.\n\n  First Aid & Rescue Skills   Basics of CPR\, choking rescue\, and responding to injuries or illnesses.\n\n  Child Care Skills   Managing behavior\, understanding child development\, and practicing diapering.\n\n  Life & Business Skills   Screening job opportunities\, setting fees\, and interacting with employers.\n\n  Class Dates: June 11\, 12\, 25\, 26\, 2025\n\n  Time: 8:30 AM   3:30 PM\n\n  Cost: $40\n\n  To Register: Call 417-347-4448\n\nGive your child the confidence and skills they need to be a successful babysitter! Pre-registration required.
X-ALT-DESC;FMTTYPE=text/html:<div class="flex max-w-full flex-col flex-grow">\n<div class="min-h-8 text-message relative flex w-full flex-col items-end gap-2 whitespace-normal break-words text-start [.text-message+&amp\;]:mt-5" data-message-author-role="assistant" data-message-id="834895b2-0b52-4570-a35b-47fe2e61b6a9" data-message-model-slug="gpt-4o" dir="auto">\n<div class="flex w-full flex-col gap-1 empty:hidden first:pt-[3px]">\n<div class="markdown prose w-full break-words dark:prose-invert light">\n<p data-end="353" data-start="77">Prepare your child with the skills they need to be a responsible and confident babysitter! The Safe Sitter&reg\; course teaches essential skills in <strong data-end="274" data-start="220">safety\, first aid\, child care\, and business basics</strong> to help students handle real-life situations when caring for young children.</p>\n\n<p data-end="853" data-start="355">During this one-day class\, participants will learn:<br data-end="409" data-start="406" />\n&#128313\; <strong data-end="429" data-start="412">Safety Skills</strong> &ndash\; How to prevent unsafe situations and handle emergencies like power failures or severe weather.<br data-end="529" data-is-only-node="" data-start="526" />\n&#128313\; <strong data-end="561" data-start="532">First Aid &amp\; Rescue Skills</strong> &ndash\; Basics of CPR\, choking rescue\, and responding to injuries or illnesses.<br data-end="638" data-start="635" />\n&#128313\; <strong data-end="662" data-start="641">Child Care Skills</strong> &ndash\; Managing behavior\, understanding child development\, and practicing diapering.<br data-end="745" data-start="742" />\n&#128313\; <strong data-end="774" data-start="748">Life &amp\; Business Skills</strong> &ndash\; Screening job opportunities\, setting fees\, and interacting with employers.</p>\n\n<p data-end="1047" data-start="855">&#128197\; <strong data-end="874" data-start="858">Class Dates:</strong> June 11\, 12\, 25\, 26\, 2025<br data-end="903" data-start="900" />\n&#9200\; <strong data-end="914" data-is-only-node="" data-start="905">Time:</strong> 8:30 AM &ndash\; 3:30 PM<br data-end="935" data-start="932" />\n&#128178\; <strong data-end="947" data-start="938">Cost:</strong> $40<br data-end="1009" data-start="1006" />\n&#9742\; <strong data-end="1027" data-start="1011">To Register:</strong> Call 417-347-4448</p>\n\n<p data-end="1161" data-is-last-node="" data-is-only-node="" data-start="1049">Give your child the confidence and skills they need to be a successful babysitter! Pre-registration required.</p>\n</div>\n</div>\n</div>\n</div>\n
LOCATION:
UID:e.2144.15153
SEQUENCE:3
DTSTAMP:20260424T073824Z
URL:https://www.neoshocc.com/events/details/safe-sitter-class-freeman-health-system-15153
END:VEVENT

END:VCALENDAR
