BEGIN:VCALENDAR
VERSION:2.0
PRODID:-//ChamberMaster//Event Calendar 2.0//EN
METHOD:PUBLISH
X-PUBLISHED-TTL:P3D
REFRESH-INTERVAL:P3D
CALSCALE:GREGORIAN
BEGIN:VEVENT
DTSTART:20240614T230000Z
DTEND:20240615T020000Z
X-MICROSOFT-CDO-ALLDAYEVENT:FALSE
SUMMARY:Samantha Hunt Live Music At Eastside Social
DESCRIPTION:Samantha Hunt will be preforming live at Eastside Social from 6pm to 9pm on June 14th.
X-ALT-DESC;FMTTYPE=text/html:Samantha Hunt will be preforming live at Eastside Social from 6pm to 9pm on June 14th.&nbsp\;
LOCATION:Eastside Social 113 S Washington St. Neosho\, Mo
UID:e.2144.12171
SEQUENCE:3
DTSTAMP:20260425T004344Z
URL:https://www.neoshocc.com/events/details/samantha-hunt-live-music-at-eastside-social-12171
END:VEVENT

END:VCALENDAR
