BEGIN:VCALENDAR
VERSION:2.0
PRODID:-//ChamberMaster//Event Calendar 2.0//EN
METHOD:PUBLISH
X-PUBLISHED-TTL:P3D
REFRESH-INTERVAL:P3D
CALSCALE:GREGORIAN
BEGIN:VEVENT
DTSTART:20251206T180000Z
DTEND:20251206T200000Z
X-MICROSOFT-CDO-ALLDAYEVENT:FALSE
SUMMARY:Santa is Coming to Town
DESCRIPTION:Santa Claus Is Coming to Town!\n\nJoin us for a magical FREE kids event as Santa makes a special stop at the Branch Lobby on Gardner-Edgewood Dr. Bring your little ones and your Ranger Club Kids for an afternoon filled with holiday cheer\, fun activities\, and festive surprises!\n\n\n\n  Saturday\, December 6\n\n  12 PM   2 PM\n\n  Branch Lobby\, Gardner-Edgewood Dr.\n\n\n\nKids will enjoy:\n\n  Photos with Santa\n\n  Delicious refreshments\n\n  A special surprise for kids\n\n  Face painting & family-friendly fun\n\n\n\nCome celebrate the season\, make memories\, and kick off the holidays with Santa and his cheerful crew!
X-ALT-DESC;FMTTYPE=text/html:&#127877\; Santa Claus Is Coming to Town!<br />\nJoin us for a magical FREE kids event as Santa makes a special stop at the Branch Lobby on Gardner-Edgewood Dr. Bring your little ones&mdash\;and your Ranger Club Kids&mdash\;for an afternoon filled with holiday cheer\, fun activities\, and festive surprises!<br />\n<br />\n&#128197\; Saturday\, December 6<br />\n&#9200\; 12 PM &ndash\; 2 PM<br />\n&#128205\; Branch Lobby\, Gardner-Edgewood Dr.<br />\n<br />\nKids will enjoy:<br />\n&#10024\; Photos with Santa<br />\n&#127850\; Delicious refreshments<br />\n&#127873\; A special surprise for kids<br />\n&#127912\; Face painting &amp\; family-friendly fun<br />\n<br />\nCome celebrate the season\, make memories\, and kick off the holidays with Santa and his cheerful crew!
LOCATION:Service 1 Credit Union\, Branch Lobby 2975 Gardner-Edgewood Dr.
UID:e.2144.18793
SEQUENCE:3
DTSTAMP:20260423T224826Z
URL:https://www.neoshocc.com/events/details/santa-is-coming-to-town-18793
END:VEVENT

END:VCALENDAR
