BEGIN:VCALENDAR
VERSION:2.0
PRODID:-//ChamberMaster//Event Calendar 2.0//EN
METHOD:PUBLISH
X-PUBLISHED-TTL:P3D
REFRESH-INTERVAL:P3D
CALSCALE:GREGORIAN
BEGIN:VEVENT
DTSTART:20241208T000000Z
DTEND:20241208T030000Z
X-MICROSOFT-CDO-ALLDAYEVENT:FALSE
SUMMARY:Sarah Diamond Live Music at Eastside Social
DESCRIPTION:?? Sara Diamond is back at Eastside Social! ??\n\nWe're beyond excited to welcome Sara back for an evening of live music\, good food\, and great vibes! Mark your calendar and join us downtown for a night to remember.\n\n?? December 7th ?? 6 PM - 9 PM ?? Eastside Social\n\nCome for the tunes\, stay for the food! See you there!
X-ALT-DESC;FMTTYPE=text/html:<p>?? <strong>Sara Diamond is back at Eastside Social!</strong> ??</p>\n\n<p>We&rsquo\;re beyond excited to welcome Sara back for an evening of live music\, good food\, and great vibes! Mark your calendar and join us downtown for a night to remember.</p>\n\n<p>?? <strong>December 7th</strong> ?? <strong>6 PM - 9 PM</strong> ?? <strong>Eastside Social</strong></p>\n\n<p>Come for the tunes\, stay for the food! See you there!</p>\n
LOCATION:Eastside Social 113 S Washington St Neosho\, Mo
UID:e.2144.13909
SEQUENCE:3
DTSTAMP:20260424T161938Z
URL:https://www.neoshocc.com/events/details/sarah-diamond-live-music-at-eastside-social-12-07-2024-13909
END:VEVENT

END:VCALENDAR
