BEGIN:VCALENDAR
VERSION:2.0
PRODID:-//ChamberMaster//Event Calendar 2.0//EN
METHOD:PUBLISH
X-PUBLISHED-TTL:P3D
REFRESH-INTERVAL:P3D
CALSCALE:GREGORIAN
BEGIN:VEVENT
DTSTART:20250620T230000Z
DTEND:20250621T020000Z
X-MICROSOFT-CDO-ALLDAYEVENT:FALSE
SUMMARY:Sarah Diamond Live Music at Eastside Social
DESCRIPTION:Catch Sarah Diamond live at Eastside! She'll be jamming out on the patio all night long. Join us downtown on Friday\, June 20th from 6 9 PM for great music\, good vibes\, and summer fun!
X-ALT-DESC;FMTTYPE=text/html:<span style="color:rgb(35\, 31\, 32)\; font-family:brandon-grotesque\; font-size:22.4px">Catch Sarah Diamond live at Eastside! She&rsquo\;ll be jamming out on the patio all night long. Join us downtown on </span><strong>Friday\, June 20th from 6&ndash\;9 PM</strong><span style="color:rgb(35\, 31\, 32)\; font-family:brandon-grotesque\; font-size:22.4px"> for great music\, good vibes\, and summer fun!</span>
LOCATION:113 S Washington St Neosho\, Mo at Eastside Social
UID:e.2144.13061
SEQUENCE:3
DTSTAMP:20260424T074035Z
URL:https://www.neoshocc.com/events/details/sarah-diamond-live-music-at-eastside-social-13061
END:VEVENT

END:VCALENDAR
