BEGIN:VCALENDAR
VERSION:2.0
PRODID:-//ChamberMaster//Event Calendar 2.0//EN
METHOD:PUBLISH
X-PUBLISHED-TTL:P3D
REFRESH-INTERVAL:P3D
CALSCALE:GREGORIAN
BEGIN:VEVENT
DTSTART:20250628T150000Z
DTEND:20250628T210000Z
X-MICROSOFT-CDO-ALLDAYEVENT:FALSE
SUMMARY:Saturday's at The Rowe
DESCRIPTION:Join us Saturday June 28th for a fun day of shopping and Summer fun with KB Embroidery & Design & Lively Lemon - Lemonade & Mobile Bar!
X-ALT-DESC;FMTTYPE=text/html:<span style="color: rgb(0\, 0\, 0)\; font-family: Aptos\, Aptos_EmbeddedFont\, Aptos_MSFontService\, Calibri\, Helvetica\, sans-serif\; font-size: 16px\;">Join us Saturday June 28th for a fun day of shopping and Summer fun with KB Embroidery &amp\; Design &amp\; Lively Lemon - Lemonade &amp\; Mobile Bar!</span>
LOCATION:The Rowe Boutique 115 N Jefferson St\, Neosho\, Mo.
UID:e.2144.16682
SEQUENCE:3
DTSTAMP:20260424T073852Z
URL:https://www.neoshocc.com/events/details/saturday-s-at-the-rowe-16682
END:VEVENT

END:VCALENDAR
