BEGIN:VCALENDAR
VERSION:2.0
PRODID:-//ChamberMaster//Event Calendar 2.0//EN
METHOD:PUBLISH
X-PUBLISHED-TTL:P3D
REFRESH-INTERVAL:P3D
CALSCALE:GREGORIAN
BEGIN:VEVENT
DTSTART:20250719T150000Z
DTEND:20250719T210000Z
X-MICROSOFT-CDO-ALLDAYEVENT:FALSE
SUMMARY:Saturday's at The Rowe!
DESCRIPTION:A super fun day filled with some great small businesses! Ear piercing\, make your own purse bar\, micro tattoos\, charm bar\, permanent jewelry & lip gloss bar!
X-ALT-DESC;FMTTYPE=text/html:<span style="color: rgb(0\, 0\, 0)\; font-family: Aptos\, Aptos_EmbeddedFont\, Aptos_MSFontService\, Calibri\, Helvetica\, sans-serif\; font-size: 16px\;">A super fun day filled with some great small businesses! Ear piercing\, make your own purse bar\, micro tattoos\, charm bar\, permanent jewelry &amp\; lip gloss bar!</span>
LOCATION:The Rowe Boutique 115 N Jefferson St Neosho\, Mo. 64850
UID:e.2144.17322
SEQUENCE:3
DTSTAMP:20260424T060622Z
URL:https://www.neoshocc.com/events/details/saturday-s-at-the-rowe-17322
END:VEVENT

END:VCALENDAR
