BEGIN:VCALENDAR
VERSION:2.0
PRODID:-//ChamberMaster//Event Calendar 2.0//EN
METHOD:PUBLISH
X-PUBLISHED-TTL:P3D
REFRESH-INTERVAL:P3D
CALSCALE:GREGORIAN
BEGIN:VEVENT
DTSTART:20230731T193000Z
DTEND:20230731T203000Z
X-MICROSOFT-CDO-ALLDAYEVENT:FALSE
SUMMARY:SBDC Renovated Office Ribbon Cutting
DESCRIPTION:SBDC Renovated Office Ribbon Cutting
X-ALT-DESC;FMTTYPE=text/html:SBDC Renovated Office Ribbon Cutting
LOCATION:Robert W. Plaster School of Business 1st Floor\, Suite 107
UID:e.2144.10511
SEQUENCE:3
DTSTAMP:20260425T170939Z
URL:https://www.neoshocc.com/events/details/sbdc-renovated-office-ribbon-cutting-10511
END:VEVENT

END:VCALENDAR
