BEGIN:VCALENDAR
VERSION:2.0
PRODID:-//ChamberMaster//Event Calendar 2.0//EN
METHOD:PUBLISH
X-PUBLISHED-TTL:P3D
REFRESH-INTERVAL:P3D
CALSCALE:GREGORIAN
BEGIN:VEVENT
DTSTART:20250625T183000Z
DTEND:20250625T200000Z
X-MICROSOFT-CDO-ALLDAYEVENT:FALSE
SUMMARY:Senior Bingo
DESCRIPTION:Senior BINGO at McDonald's!  \n\nJoin us for an afternoon of PRIZES\, FOOD\, and FUN at McDonald's on June 25th from 1:30 3:00 PM!\n\nGrab a senior drink for just $1.07 to buy in and enjoy a lively round of BINGO with friends. Whether you're in it to win it or just want to socialize\, this is your chance to make some golden memories!\n\n  Location: 708 S Neosho Blvd\, Neosho\, MO\n\n  Date: June 25\, 2025\n\n  Time: 1:30 PM   3:00 PM\n\nBring your lucky charms and join the fun!    \n\n#SeniorBingo #NeoshoEvents #McFunDay #CommunityConnection
X-ALT-DESC;FMTTYPE=text/html:<p data-end="249" data-start="102">&#127881\; <strong data-end="136" data-start="105">Senior BINGO at McDonald&rsquo\;s!</strong> &#127881\;<br data-end="142" data-start="139" />\nJoin us for an afternoon of <em data-end="193" data-start="170">PRIZES\, FOOD\, and FUN</em> at McDonald&rsquo\;s on <strong data-end="224" data-start="211">June 25th</strong> from <strong data-end="246" data-start="230">1:30&ndash\;3:00 PM</strong>!</p>\n\n<p data-end="457" data-start="251">Grab a senior drink for just <strong data-end="289" data-start="280">$1.07</strong> to buy in and enjoy a lively round of BINGO with friends. Whether you&#39\;re in it to win it or just want to socialize\, this is your chance to make some golden memories!</p>\n\n<p data-end="568" data-start="459">&#128205\; <strong data-end="475" data-start="462">Location:</strong> 708 S Neosho Blvd\, Neosho\, MO<br data-end="508" data-start="505" />\n&#128197\; <strong data-end="520" data-start="511">Date:</strong> June 25\, 2025<br data-end="537" data-start="534" />\n&#9200\; <strong data-end="548" data-start="539">Time:</strong> 1:30 PM &ndash\; 3:00 PM</p>\n\n<p data-end="678" data-start="570">Bring your lucky charms and join the fun! &#129491\;&#127828\;&#127881\;<br data-end="621" data-start="618" />\n#SeniorBingo #NeoshoEvents #McFunDay #CommunityConnection</p>\n
LOCATION:Mcdonalds - Neosho 708 S Neosho Blvd\, Neosho\, MO
UID:e.2144.16641
SEQUENCE:3
DTSTAMP:20260424T092033Z
URL:https://www.neoshocc.com/events/details/senior-bingo-16641
END:VEVENT

END:VCALENDAR
