BEGIN:VCALENDAR
VERSION:2.0
PRODID:-//ChamberMaster//Event Calendar 2.0//EN
METHOD:PUBLISH
X-PUBLISHED-TTL:P3D
REFRESH-INTERVAL:P3D
CALSCALE:GREGORIAN
BEGIN:VEVENT
DTSTART:20230825T230000Z
DTEND:20230826T010000Z
X-MICROSOFT-CDO-ALLDAYEVENT:FALSE
SUMMARY:Service 1 Federal Credit Union Dogs Days of Summer
DESCRIPTION:Service 1 Federal Credit Union Dog Days of Summer
X-ALT-DESC;FMTTYPE=text/html:Service 1 Federal Credit Union Dog Days of Summer
LOCATION:2975 Gardner-Edgewood Dr\, Neosho\, MO 64850
UID:e.2144.10761
SEQUENCE:3
DTSTAMP:20260425T154824Z
URL:https://www.neoshocc.com/events/details/service-1-federal-credit-union-dogs-days-of-summer-10761
END:VEVENT

END:VCALENDAR
