BEGIN:VCALENDAR
VERSION:2.0
PRODID:-//ChamberMaster//Event Calendar 2.0//EN
METHOD:PUBLISH
X-PUBLISHED-TTL:P3D
REFRESH-INTERVAL:P3D
CALSCALE:GREGORIAN
BEGIN:VEVENT
DTSTART:20241012T170000Z
DTEND:20241012T170000Z
X-MICROSOFT-CDO-ALLDAYEVENT:FALSE
SUMMARY:Serving with Style : Galvanized/Resin Serving Tray
DESCRIPTION:Making a 17" galvanized/resin serving tray. Various methods of resin work will be discussed.
X-ALT-DESC;FMTTYPE=text/html:Making a 17&quot\; galvanized/resin serving tray. Various methods of resin work will be discussed.
LOCATION:Old Cedar Mill 17346 Kentucky Rd Neosho\, MO
UID:e.2144.13085
SEQUENCE:3
DTSTAMP:20260424T190357Z
URL:https://www.neoshocc.com/events/details/serving-with-style-galvanized-resin-serving-tray-13085
END:VEVENT

END:VCALENDAR
