BEGIN:VCALENDAR
VERSION:2.0
PRODID:-//ChamberMaster//Event Calendar 2.0//EN
METHOD:PUBLISH
X-PUBLISHED-TTL:P3D
REFRESH-INTERVAL:P3D
CALSCALE:GREGORIAN
BEGIN:VEVENT
DTSTART;VALUE=DATE:20241201
DTEND;VALUE=DATE:20250101
TRANSP:TRANSPARENT
X-MICROSOFT-CDO-ALLDAYEVENT:TRUE
SUMMARY:'Sho Me The Lights Self Guided tour
DESCRIPTION:Sho-Me the Lights Holiday Tour!   \n\n\n\nDashing through the town\,\n\nOn a self-guided light tour\,\n\nCalling all to join\,\n\nLet's spread some holiday cheer!\n\n\n\nLights on homes and shops\,\n\nShining bright and free\,\n\nAdd your spot onto the map\n\nFor all the world to see!\n\n\n\nOh\, Sho-Me lights\, Sho-Me lights\,\n\nDecorate today!\n\nHomes and businesses unite\,\n\nTo make the season gay!\n\n\n\nOh\, Sho-Me lights\, Sho-Me lights\,\n\nAdd your glow\, no fee  \n\nA merry map of twinkling lights\,\n\nFor all the world to see!\n\n\n\nSo deck your halls and trees\,\n\nAnd rooftops if you dare\,\n\nLet's make our town a wonderland\n\nAnd show the love we share!\n\n\n\nOh\, Sho-Me lights\, Sho-Me lights\,\n\nCome and join the fun!\n\nRegister now and light the way\,\n\nFor everyone to come!   \n\n\n\nRegister your location here: https://docs.google.com/forms/d/e/1FAIpQLSf5pg061Un6JJ1k-y15ZJ3l-u8h0eZTzHa_v2cW-6XzCWf26w/viewform?usp=sharing
X-ALT-DESC;FMTTYPE=text/html:<span style="font-family:segoe ui emoji\,sans-serif\;">&#10024\;&#127876\;</span>&nbsp\;<strong>Sho-Me the Lights Holiday Tour!</strong>&nbsp\;<span style="font-family:segoe ui emoji\,sans-serif\;">&#127876\;&#10024\;</span><br />\n<br />\nDashing through the town\,<br />\nOn a self-guided light tour\,<br />\nCalling all to join\,<br />\nLet&rsquo\;s spread some holiday cheer!<br />\n<br />\nLights on homes and shops\,<br />\nShining bright and free\,<br />\nAdd your spot onto the map<br />\nFor all the world to see!<br />\n<br />\n<strong>Oh\, Sho-Me lights\, Sho-Me lights\,</strong><br />\nDecorate today!<br />\nHomes and businesses unite\,<br />\nTo make the season gay!<br />\n<br />\n<strong>Oh\, Sho-Me lights\, Sho-Me lights\,</strong><br />\nAdd your glow\, no fee &ndash\;<br />\nA merry map of twinkling lights\,<br />\nFor all the world to see!<br />\n<br />\nSo deck your halls and trees\,<br />\nAnd rooftops if you dare\,<br />\nLet&rsquo\;s make our town a wonderland<br />\nAnd show the love we share!<br />\n<br />\n<strong>Oh\, Sho-Me lights\, Sho-Me lights\,</strong><br />\nCome and join the fun!<br />\nRegister now and light the way\,<br />\nFor everyone to come! <span style="font-family:segoe ui emoji\,sans-serif\;">&#127876\;&#10024\;<br />\n<br />\nRegister your location here:&nbsp\;</span><a href="https://docs.google.com/forms/d/e/1FAIpQLSf5pg061Un6JJ1k-y15ZJ3l-u8h0eZTzHa_v2cW-6XzCWf26w/viewform?usp=sharing">https://docs.google.com/forms/d/e/1FAIpQLSf5pg061Un6JJ1k-y15ZJ3l-u8h0eZTzHa_v2cW-6XzCWf26w/viewform?usp=sharing</a>
LOCATION:Join us in lighting up Neosho this season! The Sho-Me the Lights Tour is a self-guided holiday light experience open to all. Businesses and residents alike are invited to decorate\, add their address to our community map\, and help spread holiday cheer. It's free to register\, so let's make this season sparkle! Find addresses here: https://www.google.com/maps/d/edit?mid=10wPgeSrqMX1DhWUfEPOumnuMX_GXBbY&usp=sharing Map will be updated with new addresses Monday - Friday by 3pm
UID:e.2144.13929
SEQUENCE:3
DTSTAMP:20260424T161720Z
URL:https://www.neoshocc.com/events/details/sho-me-the-lights-self-guided-tour-13929
END:VEVENT

END:VCALENDAR
