BEGIN:VCALENDAR
VERSION:2.0
PRODID:-//ChamberMaster//Event Calendar 2.0//EN
METHOD:PUBLISH
X-PUBLISHED-TTL:P3D
REFRESH-INTERVAL:P3D
CALSCALE:GREGORIAN
BEGIN:VEVENT
DTSTART:20240720T140000Z
DTEND:20240720T193000Z
X-MICROSOFT-CDO-ALLDAYEVENT:FALSE
SUMMARY:Shoal Creek Water Fest
DESCRIPTION:Free to Attend\n\nAll ages Welcome\n\n\n\nWater you doing? It's time for Wildcat Glades' yearly Water Festival!\n\nThis collaboratory event between Wildcat Glades Nature Group\, Stealth Creative\, Missouri American Water\, the Missouri Department of Conservation\, and the Joplin Parks department is bound to leave you wet behind the ears! Join us for cardboard boat races\, shoebox boat races\, a rubber duck race\, a fishing derby\, food trucks\, and 20+ booths from local vendors or organizations.\n\nFor more information on registration for the cardboard or shoebox boat races\, please visit our website or email colvin@wildcatglades.org.
X-ALT-DESC;FMTTYPE=text/html:<p><em>Free to Attend<br />\nAll ages Welcome</em><br />\n<br />\n<em>Water</em>&nbsp\;you doing? It&rsquo\;s time for Wildcat Glades&rsquo\; yearly Water Festival!</p>\n\n<p>This collaboratory event between Wildcat Glades Nature Group\, Stealth Creative\, Missouri American Water\, the Missouri Department of Conservation\, and the Joplin Parks department is bound to leave you&nbsp\;<em>wet</em>&nbsp\;behind the ears! Join us for cardboard boat races\, shoebox boat races\, a rubber duck race\, a fishing derby\, food trucks\, and 20+ booths from local vendors or organizations.<br />\n<strong>For more information on registration for the cardboard or shoebox boat races\, please visit <a href="http://wildcatglades.org">our website</a> or email <a href="mailto:colvin@wildcatglades.org">colvin@wildcatglades.org</a></strong><strong>. </strong><br />\n&nbsp\;</p>\n
LOCATION:Wildcat Glades Pavilion - 401 Riviera Dr\, Joplin\, MO 64804
UID:e.2144.12181
SEQUENCE:3
DTSTAMP:20260425T004048Z
URL:https://www.neoshocc.com/events/details/shoal-creek-water-fest-12181
END:VEVENT

END:VCALENDAR
