BEGIN:VCALENDAR
VERSION:2.0
PRODID:-//ChamberMaster//Event Calendar 2.0//EN
METHOD:PUBLISH
X-PUBLISHED-TTL:P3D
REFRESH-INTERVAL:P3D
CALSCALE:GREGORIAN
BEGIN:VEVENT
DTSTART:20241025T220000Z
DTEND:20241026T030000Z
X-MICROSOFT-CDO-ALLDAYEVENT:FALSE
SUMMARY:Skeleton Social at the Square
DESCRIPTION:Drinks\, food\, and community! Live music on the square\, candy/beer pairings at ISBC\, karaoke at Eastside Social - and a good time to bring your ghouls!
X-ALT-DESC;FMTTYPE=text/html:<span font-size:="" segoe="" style="font-family: " ui="">Drinks\, food\, and community! Live music on the square\, candy/beer pairings at ISBC\, karaoke at Eastside Social - and a good time to bring your ghouls!</span>
LOCATION:109 E Main St\, Neosho\, MO\, United States\, Missouri 64850
UID:e.2144.13744
SEQUENCE:3
DTSTAMP:20260424T190437Z
URL:https://www.neoshocc.com/events/details/skeleton-social-at-the-square-13744
END:VEVENT

END:VCALENDAR
