BEGIN:VCALENDAR
VERSION:2.0
PRODID:-//ChamberMaster//Event Calendar 2.0//EN
METHOD:PUBLISH
X-PUBLISHED-TTL:P3D
REFRESH-INTERVAL:P3D
CALSCALE:GREGORIAN
BEGIN:VEVENT
DTSTART:20250714T193000Z
DTEND:20250714T210000Z
X-MICROSOFT-CDO-ALLDAYEVENT:FALSE
SUMMARY:Snack Off\, tweens ages 8-14
DESCRIPTION:Neosho Newton County Library\n\nLike "Bake Off" but snacks. We will have random food items for the youth to choose from and create a fun and great tasting snack. There must be a parent or guardian in the building. Do NOT drop off your youth.
X-ALT-DESC;FMTTYPE=text/html:Neosho Newton County Library<br />\nLike &quot\;Bake Off&quot\; but snacks. We will have random food items for the youth to choose from and create a fun and great tasting snack. There must be a parent or guardian in the building. Do NOT drop off your youth.
LOCATION:Neosho Newton County Library 201 West Spring Street Neosho MO 64850
UID:e.2144.16626
SEQUENCE:3
DTSTAMP:20260424T060622Z
URL:https://www.neoshocc.com/events/details/snack-off-tweens-ages-8-14-16626
END:VEVENT

END:VCALENDAR
