BEGIN:VCALENDAR
VERSION:2.0
PRODID:-//ChamberMaster//Event Calendar 2.0//EN
METHOD:PUBLISH
X-PUBLISHED-TTL:P3D
REFRESH-INTERVAL:P3D
CALSCALE:GREGORIAN
BEGIN:VEVENT
DTSTART:20260116T000000Z
DTEND:20260116T013000Z
X-MICROSOFT-CDO-ALLDAYEVENT:FALSE
SUMMARY:Soroptimist International of Neosho Meeting
DESCRIPTION:Come sit in on our meeting and see what we are doing in the community. We have a guest speaker from Camp Barnabas.
X-ALT-DESC;FMTTYPE=text/html:Come sit in on our meeting and see what we are doing in the community. We have a guest speaker from Camp Barnabas.&nbsp\;
LOCATION:Flagship Auto
UID:e.2144.18901
SEQUENCE:3
DTSTAMP:20260423T225001Z
URL:https://www.neoshocc.com/events/details/soroptimist-international-of-neosho-meeting-18901
END:VEVENT

END:VCALENDAR
