BEGIN:VCALENDAR
VERSION:2.0
PRODID:-//ChamberMaster//Event Calendar 2.0//EN
METHOD:PUBLISH
X-PUBLISHED-TTL:P3D
REFRESH-INTERVAL:P3D
CALSCALE:GREGORIAN
BEGIN:VEVENT
DTSTART:20240726T230000Z
DTEND:20240727T010000Z
X-MICROSOFT-CDO-ALLDAYEVENT:FALSE
SUMMARY:Soroptimist SIP and SEE
DESCRIPTION:JOIN US FOR A COME & GO SOCIAL AT INDIAN SPRINGS BREWING COMPANY ON THE BEAUTIFUL DOWNTOWN NEOSHO SQUARE! MEET OUR CLUB MEMBERS & LEARN ABOUT SOROPTIMIST! SUMMERTIME IS SIPPIN' TIME! \n\n**Non alcoholic drinks will also be available**
X-ALT-DESC;FMTTYPE=text/html:<div>JOIN US FOR A COME &amp\; GO SOCIAL AT INDIAN SPRINGS BREWING COMPANY ON THE BEAUTIFUL DOWNTOWN NEOSHO SQUARE! MEET OUR CLUB MEMBERS &amp\; LEARN ABOUT SOROPTIMIST! SUMMERTIME IS SIPPIN&rsquo\; TIME!&nbsp\;</div>\n\n<div>**Non alcoholic drinks will also be available**&nbsp\;</div>\n
LOCATION:Indian Springs Brewing Company 109 E Main St. Neosho MO 64850
UID:e.2144.12205
SEQUENCE:3
DTSTAMP:20260424T231931Z
URL:https://www.neoshocc.com/events/details/soroptimist-sip-and-see-12205
END:VEVENT

END:VCALENDAR
