BEGIN:VCALENDAR
VERSION:2.0
PRODID:-//ChamberMaster//Event Calendar 2.0//EN
METHOD:PUBLISH
X-PUBLISHED-TTL:P3D
REFRESH-INTERVAL:P3D
CALSCALE:GREGORIAN
BEGIN:VEVENT
DTSTART:20230716T190000Z
DTEND:20230716T200000Z
X-MICROSOFT-CDO-ALLDAYEVENT:FALSE
SUMMARY:Sound Therapy Session for Stress Reduction and Total Relaxation!
DESCRIPTION:If you have not yet experienced what sound therapy can do for you\, this is the opportunity you have been waiting for. It is scheduled for Sunday\, July 16 at 2:00 (come about 15 minutes early to get your place secured) at New Mac Community Room \, Mustang Drive in Anderson\, MO. \n\nBring a comfortable pad or reclining lawn chair\, pillow\, blanket and eye mask if you so choose and prepare to become as deeply relaxed as ever you have been!\n\nThe sounds you will hear take you to a new level as you listen to crystal and Tibetan bowls\, drums\, chimes\, gongs and more. These are instruments that have been used for thousands of years in healing\, and you will feel the benefits immediately.\n\nThose who have already been to a sound session are invited to leave a comment as to how it made you feel so others may see how they also may react!\n\n I hope to see you there
X-ALT-DESC;FMTTYPE=text/html:<div>If you have not yet experienced what sound therapy can do for you\, this is the opportunity you have been waiting for. It is scheduled for Sunday\, July 16 at 2:00 (come about 15 minutes early to get your place secured) at New Mac Community Room \, Mustang Drive in Anderson\, MO.&nbsp\;</div>\n\n<div>Bring a comfortable pad or reclining lawn chair\, pillow\, blanket and eye mask if you so choose and prepare to become as deeply relaxed as ever you have been!</div>\n\n<div>The sounds you will hear take you to a new level as you listen to crystal and Tibetan bowls\, drums\, chimes\, gongs and more. These are instruments that have been used for thousands of years in healing\, and you will feel the benefits immediately.</div>\n\n<div>Those who have already been to a sound session are invited to leave a comment as to how it made you feel so others may see how they also may react!</div>\n\n<div>&nbsp\;I hope to see you there</div>\n
LOCATION:New Mac Community Room\, Mustang Drive\, Anderson\, MO.
UID:e.2144.10489
SEQUENCE:3
DTSTAMP:20260425T170950Z
URL:https://www.neoshocc.com/events/details/sound-therapy-for-stress-reduction-and-total-relaxation-10489
END:VEVENT

END:VCALENDAR
