BEGIN:VCALENDAR
VERSION:2.0
PRODID:-//ChamberMaster//Event Calendar 2.0//EN
METHOD:PUBLISH
X-PUBLISHED-TTL:P3D
REFRESH-INTERVAL:P3D
CALSCALE:GREGORIAN
BEGIN:VEVENT
DTSTART:20230420T110000Z
DTEND:20230420T130000Z
X-MICROSOFT-CDO-ALLDAYEVENT:FALSE
SUMMARY:Sounds of Nature
DESCRIPTION:Adult Program: Sounds of Nature\n\nFree Class Sponsored by the Corley Foundation \n\nThursday April 20th from 6pm-8pm for ages 13+\, Wildcat Glades Education Cottage\n\nWhen picturing night-time sounds\, it is often portrayed as some far-away rainforest with so many animals calling that it is difficult to single just one out. Missouri may not have monkeys calling out in the night\, but we certainly have animals that are active and noisy in the nighttime! Join us to learn a bit about some of the nocturnal animals that are calling out at night. We will talk a bit about those animals in the Wildcat Glades Education Cottage\, and then we will take a walk at dusk along the trails to see if we can put those new skills to use. You must pre-register\, and space will be limited. You can register by going to https://bit.ly/WildcatSounds\, or by emailing maddie@wildcatglades.org.
X-ALT-DESC;FMTTYPE=text/html:<strong><em><u>Adult Program: Sounds of Nature</u></em></strong><br />\n<em>Free Class Sponsored by the Corley Foundation </em><br />\n<em>Thursday April 20<sup>th </sup>from 6pm-8pm for ages 13+\, Wildcat Glades Education Cottage</em><br />\nWhen picturing night-time sounds\, it is often portrayed as some far-away rainforest with so many animals calling that it is difficult to single just one out. Missouri may not have monkeys calling out in the night\, but we certainly have animals that are active and noisy in the nighttime! Join us to learn a bit about some of the nocturnal animals that are calling out at night. We will talk a bit about those animals in the Wildcat Glades Education Cottage\, and then we will take a walk at dusk along the trails to see if we can put those new skills to use. You must pre-register\, and space will be limited. You can register by going to <a href="https://bit.ly/WildcatSounds">https://bit.ly/WildcatSounds</a>\, or by emailing maddie@wildcatglades.org.&nbsp\;
LOCATION:Wildcat Glades Education Cottage Wildcat Park 301 W Riviera Drive Joplin\, MO 64804
UID:e.2144.9899
SEQUENCE:3
DTSTAMP:20260425T232045Z
URL:https://www.neoshocc.com/events/details/sounds-of-nature-9899
END:VEVENT

END:VCALENDAR
