BEGIN:VCALENDAR
VERSION:2.0
PRODID:-//ChamberMaster//Event Calendar 2.0//EN
METHOD:PUBLISH
X-PUBLISHED-TTL:P3D
REFRESH-INTERVAL:P3D
CALSCALE:GREGORIAN
BEGIN:VEVENT
DTSTART;VALUE=DATE:20230621
DTEND;VALUE=DATE:20230916
TRANSP:TRANSPARENT
X-MICROSOFT-CDO-ALLDAYEVENT:TRUE
SUMMARY:Special Exhibition of Heritage by Sherry Pettey
DESCRIPTION:This summer area residents have the opportunity to view a work of art that's not always on public display. Sherry Pettey's painting Heritage normally hangs inside the library of Benton Elementary School in Neosho but due to renovations\, the work is currently available for viewing at Southwest Missouri Bank (Neosho North) for the next three months.\n\n\n\nThe Neosho Arts Council has created a special reference brochure for the public to help guide them through the different elements of the painting and give some historical information and context.\n\n\n\nHeritage is a 9 foot by 7 foot acrylic painting on three joined panels that was commissioned in 2006 by the Newton County Tourism Council. It was painted in a style that resembles the work of famed regionalist painter and Neosho native\, Thomas Hart Benton. \n\n\n\nThe bank invites everyone to stop by and enjoy this special exhibition opportunity.\n\n\n\nSouthwest Missouri Bank\n\n110 North Neosho Blvd\n\nNeosho\, MO 64850\n\n\n\nOpen to the public Monday - Friday: 8:30 am - 5:30 pm and Saturday: 9:00 am - 12:00 pm.
X-ALT-DESC;FMTTYPE=text/html:This summer area residents have the opportunity to view a work of art that&rsquo\;s not always on public display. Sherry Pettey&rsquo\;s painting <em>Heritage</em> normally hangs inside the library of Benton Elementary School in Neosho but due to renovations\, the work is currently available for viewing at Southwest Missouri Bank (Neosho North) for the next three months.<br />\n<br />\nThe Neosho Arts Council has created a special reference brochure for the public to help guide them through the different elements of the painting and give some historical information and context.<br />\n<br />\n<em>Heritage</em> is a 9 foot by 7 foot acrylic painting on three joined panels that was commissioned in 2006 by the Newton County Tourism Council. It was painted in a style that resembles the work of famed regionalist painter and Neosho native\, Thomas Hart Benton.&nbsp\;<br />\n<br />\nThe bank invites everyone to stop by and enjoy this special exhibition opportunity.<br />\n<br />\nSouthwest Missouri Bank<br />\n110 North Neosho Blvd<br />\nNeosho\, MO 64850<br />\n<br />\nOpen to the public Monday - Friday: 8:30 am - 5:30 pm and Saturday: 9:00 am - 12:00 pm.
LOCATION:Southwest Missouri Bank 110 North Neosho Blvd Neosho\, MO 64850
UID:e.2144.10480
SEQUENCE:3
DTSTAMP:20260425T141105Z
URL:https://www.neoshocc.com/events/details/special-exhibition-of-heritage-by-sherry-pettey-10480
END:VEVENT

END:VCALENDAR
