BEGIN:VCALENDAR
VERSION:2.0
PRODID:-//ChamberMaster//Event Calendar 2.0//EN
METHOD:PUBLISH
X-PUBLISHED-TTL:P3D
REFRESH-INTERVAL:P3D
CALSCALE:GREGORIAN
BEGIN:VEVENT
DTSTART:20260227T160000Z
DTEND:20260227T180000Z
X-MICROSOFT-CDO-ALLDAYEVENT:FALSE
SUMMARY:Spring 2026 Homeschool Schedule\, Session 3
DESCRIPTION:Spring 2026 HOMESCHOOL SCHEDULE\n\nFriday\, February 27th\, 10 am\n\nSession 3 It's Flooding: Grab Your Boat!\n\n\n\nHomeschool students!! Join us on various Fridays from January 23rd to April 17th at 10 am for lessons and hands-on activities as we learn about the amazing natural phenomenons of weather!
X-ALT-DESC;FMTTYPE=text/html:Spring 2026 HOMESCHOOL SCHEDULE<br />\nFriday\, February 27th\, 10 am<br />\nSession 3 It&#39\;s Flooding: Grab Your Boat!<br />\n<br />\nHomeschool students!! Join us on various Fridays from January 23rd to April 17th at 10 am for lessons and hands-on activities as we learn about the amazing natural phenomenons of weather!
LOCATION:201 West Spring Street Neosho\, MO 64850
UID:e.2144.18921
SEQUENCE:3
DTSTAMP:20260423T192932Z
URL:https://www.neoshocc.com/events/details/spring-2026-homeschool-schedule-session-3-18921
END:VEVENT

END:VCALENDAR
