BEGIN:VCALENDAR
VERSION:2.0
PRODID:-//ChamberMaster//Event Calendar 2.0//EN
METHOD:PUBLISH
X-PUBLISHED-TTL:P3D
REFRESH-INTERVAL:P3D
CALSCALE:GREGORIAN
BEGIN:VEVENT
DTSTART:20230421T123000Z
DTEND:20230421T230000Z
X-MICROSOFT-CDO-ALLDAYEVENT:FALSE
SUMMARY:Spring Into Free with CBT's Big Event
DESCRIPTION:Join us on April 21st at any of our 13 branches for our Spring into Free Big Event!  All branch lobbies will be open from 7:30am - 6:00pm\, with lunch served from 11:00am - 1:00pm.  Come see us for food\, fun\, free accounts\, and prizes!
X-ALT-DESC;FMTTYPE=text/html:Join us on April 21st at any of our 13 branches for our Spring into Free Big Event!&nbsp\; All branch lobbies will be open from 7:30am - 6:00pm\, with lunch served from 11:00am - 1:00pm.&nbsp\; Come see us for food\, fun\, free accounts\, and prizes!
LOCATION:All Community Bank & Trust Locations
UID:e.2144.9394
SEQUENCE:3
DTSTAMP:20260425T214316Z
URL:https://www.neoshocc.com/events/details/spring-into-free-with-cbt-s-big-event-9394
END:VEVENT

END:VCALENDAR
