BEGIN:VCALENDAR
VERSION:2.0
PRODID:-//ChamberMaster//Event Calendar 2.0//EN
METHOD:PUBLISH
X-PUBLISHED-TTL:P3D
REFRESH-INTERVAL:P3D
CALSCALE:GREGORIAN
BEGIN:VEVENT
DTSTART;VALUE=DATE:20240518
DTEND;VALUE=DATE:20240519
TRANSP:TRANSPARENT
X-MICROSOFT-CDO-ALLDAYEVENT:TRUE
SUMMARY:Spring Inventory Reduction Extravaganza- Clayton Homes
DESCRIPTION:The Spring Inventory Reduction Extravaganza is happening May 18th at Clayton Homes of Neosho.  Huge Savings on all Homes.
X-ALT-DESC;FMTTYPE=text/html:The Spring Inventory Reduction Extravaganza is happening May 18th at Clayton Homes of Neosho.&nbsp\; Huge Savings on all Homes.
LOCATION:Clayton Homes of Neosho
UID:e.2144.12053
SEQUENCE:3
DTSTAMP:20260425T031340Z
URL:https://www.neoshocc.com/events/details/spring-inventory-reduction-extravaganza-clayton-homes-12053
END:VEVENT

END:VCALENDAR
