BEGIN:VCALENDAR
VERSION:2.0
PRODID:-//ChamberMaster//Event Calendar 2.0//EN
METHOD:PUBLISH
X-PUBLISHED-TTL:P3D
REFRESH-INTERVAL:P3D
CALSCALE:GREGORIAN
BEGIN:VEVENT
DTSTART:20251011T003000Z
DTEND:20251011T023000Z
X-MICROSOFT-CDO-ALLDAYEVENT:FALSE
SUMMARY:"Starry Night Pumpkin" Painting Party
DESCRIPTION:Come out to Country Charm Event Venue for a fun evening of painting! Includes all supplies and step-by-step instructions. Beginners welcome and all painters leave with a finished painting. So\, gather up your friends and lets paint together! There will also be door prizes on the night of the Paint Party!\n\nCost is $35 per painter/$60 for couples. You must pre-register at this link:\nhttps://lp.constantcontactpages.com/ev/reg/epj8u5b\n\nPLEASE NOTE: Arrive about 20 minutes early to order drinks and get prepped for painting. Or\, come early to eat ahead of time!
X-ALT-DESC;FMTTYPE=text/html:<span style="background-color:rgb(255\, 255\, 255)\; font-family:ctsans\,sans-serif\; font-size:14px">Come out to Country Charm Event Venue for a fun evening of painting! Includes all supplies and step-by-step instructions. Beginners welcome and all painters leave with a finished painting. So\, gather up your friends and lets paint together! There will also be door prizes on the night of the Paint Party!<br />\nCost is $35 per painter/$60 for couples. You must pre-register at this link:</span>\n<div><span style="background-color:rgb(255\, 255\, 255)"><span style="font-size:14px">https://lp.constantcontactpages.com/ev/reg/epj8u5b<br />\nPLEASE NOTE: Arrive about 20 minutes early to order drinks and get prepped for painting. Or\, come early to eat ahead of time!</span></span></div>\n
LOCATION:Country Charm Event Venue 18389 E. Hwy 86 Neosho\, MO
UID:e.2144.18527
SEQUENCE:3
DTSTAMP:20260424T015800Z
URL:https://www.neoshocc.com/events/details/starry-night-pumpkin-painting-party-18527
END:VEVENT

END:VCALENDAR
