BEGIN:VCALENDAR
VERSION:2.0
PRODID:-//ChamberMaster//Event Calendar 2.0//EN
METHOD:PUBLISH
X-PUBLISHED-TTL:P3D
REFRESH-INTERVAL:P3D
CALSCALE:GREGORIAN
BEGIN:VEVENT
DTSTART:20230211T010000Z
DTEND:20230211T030000Z
X-MICROSOFT-CDO-ALLDAYEVENT:FALSE
SUMMARY:Steven Spooner @ Harry M. Cornell Arts & Entertainment Complex
DESCRIPTION:Steven Spooner\n\nFebruary 10\, 2023 @ 7:00pm\n\nHarry M. Cornell Arts & Entertainment Complex\, Beshore Performance Hall\n\nTickets: Free\n\nSeries: Corley Spotlight\n\n\n\nAt the very forefront of American pianists\, critics and audiences have unanimously praised the distinctive and compelling performances of Steven Spooner. An award-winning pianist and a professor at the Peabody Conservatory\, Spooner has been featured in prestigious venues across the globe. His reimagined solo recitals allow audiences to vote for the program they want to hear\, and feature virtuoso transcriptions alongside his own exhilarating compositions. One Liner: Award-winning pianist Steven Spooner performs virtuoso transcriptions and original compositions during this exhilarating recital.
X-ALT-DESC;FMTTYPE=text/html:Steven Spooner<br />\nFebruary 10\, 2023 @ 7:00pm<br />\nHarry M. Cornell Arts &amp\; Entertainment Complex\, Beshore Performance Hall<br />\nTickets: Free<br />\nSeries: Corley Spotlight<br />\n<br />\nAt the very forefront of American pianists\, critics and audiences have unanimously praised the distinctive and compelling performances of Steven Spooner. An award-winning pianist and a professor at the Peabody Conservatory\, Spooner has been featured in prestigious venues across the globe. His reimagined solo recitals allow audiences to vote for the program they want to hear\, and feature virtuoso transcriptions alongside his own exhilarating compositions. One Liner: Award-winning pianist Steven Spooner performs virtuoso transcriptions and original compositions during this exhilarating recital.
LOCATION:Harry M. Cornell Arts & Entertainment Complex\, Beshore Performance Hall 212 W 7th Street\, Joplin\, MO
UID:e.2144.9079
SEQUENCE:3
DTSTAMP:20260426T003905Z
URL:https://www.neoshocc.com/events/details/steven-spooner-harry-m-cornell-arts-entertainment-complex-9079
END:VEVENT

END:VCALENDAR
