BEGIN:VCALENDAR
VERSION:2.0
PRODID:-//ChamberMaster//Event Calendar 2.0//EN
METHOD:PUBLISH
X-PUBLISHED-TTL:P3D
REFRESH-INTERVAL:P3D
CALSCALE:GREGORIAN
BEGIN:VEVENT
DTSTART:20240404T140000Z
DTEND:20240404T144500Z
X-MICROSOFT-CDO-ALLDAYEVENT:FALSE
SUMMARY:Stocks Seminar: The Nuts and Bolts
DESCRIPTION:Join us!  Free Seminar to Strengthen Your Stock Savvy\n\n\n\nAs you consider your long-term financial goals\, how do your stocks measure up? In under 60 minutes\, you can evaluate how this type of investment may fit into your overall strategy. Stocks: The Nuts and Bolts covers:\n\n\n	The differences between common and preferred stock\n	Dividends investment strategy\n	Different ways to own stock\n\n\nThis program is specifically tailored for individuals like you who are serious about their financial goals whether you're just getting started or seeking perspective as a well-seasoned investor.\n\nPlease use the RSVP form below or call today to reserve space for yourself and a guest at this event. We look forward to seeing you!
X-ALT-DESC;FMTTYPE=text/html:<p>Join us!&nbsp\; Free Seminar to Strengthen Your Stock Savvy<br />\n<br />\nAs you consider your long-term financial goals\, how do your stocks measure up? In under 60 minutes\, you can evaluate how this type of investment may fit into your overall strategy.&nbsp\;<strong>Stocks: The Nuts and Bolts</strong>&nbsp\;covers:</p>\n\n<ul style="margin-left:0px\; margin-right:0px">\n	<li>The differences between common and preferred stock</li>\n	<li>Dividends investment strategy</li>\n	<li>Different ways to own stock</li>\n</ul>\n\n<p style="margin-left:0px\; margin-right:0px">This program is specifically tailored for individuals like you who are serious about their financial goals whether you&#39\;re just getting started or seeking perspective as a well-seasoned investor.</p>\n\n<p style="margin-left:0px\; margin-right:0px">Please use the RSVP form below or call today to reserve space for yourself and a guest at this event.&nbsp\;We look forward to seeing you!</p>\n
LOCATION:Neosho Chamber La-Z-Boy Conference Room 216 W. Spring St. Neosho\, Missouri 64850
UID:e.2144.11285
SEQUENCE:3
DTSTAMP:20260425T031745Z
URL:https://www.neoshocc.com/events/details/stocks-seminar-the-nuts-and-bolts-04-04-2024-11285
END:VEVENT

END:VCALENDAR
