BEGIN:VCALENDAR
VERSION:2.0
PRODID:-//ChamberMaster//Event Calendar 2.0//EN
METHOD:PUBLISH
X-PUBLISHED-TTL:P3D
REFRESH-INTERVAL:P3D
CALSCALE:GREGORIAN
BEGIN:VEVENT
DTSTART;VALUE=DATE:20250613
DTEND;VALUE=DATE:20250615
TRANSP:TRANSPARENT
X-MICROSOFT-CDO-ALLDAYEVENT:TRUE
SUMMARY:Storefront Tent Sale Event
DESCRIPTION:Black Rain Ordnance Storefront   the 2025 Storefront Tent Sale! Whether you're a long-time fan of BRO or just curious about what they offer\, this is your chance to get in on unbeatable deals and exclusive experiences.\n\n  Dates: Friday Saturday\, June 13 14\, 2025\n\n  Time: 9:00 AM   6:00 PM each day\n\n  Location: Black Rain Storefront\, 11633 Iris Rd.\, Neosho\, MO 64850\n\nHere's what's in store:\n\n\n	\n	  Hourly Door Prize Drawings (registration required)\n	\n	\n	  Live Product Demos\n	\n	\n	  Training Facility Tours\n	\n	\n	  New Long-Distance Range Access\n	\n	\n	  Free Lunch\n	\n	\n	  Big Savings on Exclusive Gear\n	\n\n\nThis isn't just a sale it's a full Black Rain experience! Bring your friends\, explore the facility\, and score great deals while enjoying everything BRO has to offer.\n\n  Scan the QR code on the flyer to register and be eligible for the door prizes and free lunch. You won't want to miss it!
X-ALT-DESC;FMTTYPE=text/html:<p data-end="486" data-start="198"><strong data-end="295" data-start="261">Black Rain Ordnance Storefront</strong> &mdash\; the <strong data-end="331" data-start="302">2025 Storefront Tent Sale</strong>! Whether you&#39\;re a long-time fan of BRO or just curious about what they offer\, this is your chance to get in on unbeatable deals and exclusive experiences.</p>\n\n<p data-end="652" data-start="488">&#128197\; <strong data-end="501" data-start="491">Dates:</strong> Friday&ndash\;Saturday\, June 13&ndash\;14\, 2025<br data-end="538" data-start="535" />\n&#128344\; <strong data-end="550" data-start="541">Time:</strong> 9:00 AM &ndash\; 6:00 PM each day<br data-end="580" data-start="577" />\n&#128205\; <strong data-end="596" data-start="583">Location:</strong> Black Rain Storefront\, 11633 Iris Rd.\, Neosho\, MO 64850</p>\n\n<p data-end="677" data-start="654">Here&rsquo\;s what&rsquo\;s in store:</p>\n\n<ul data-end="907" data-start="678">\n	<li data-end="739" data-start="678">\n	<p data-end="739" data-start="680">&#127919\; <strong data-end="713" data-start="683">Hourly Door Prize Drawings</strong> (registration required)</p>\n	</li>\n	<li data-end="769" data-start="740">\n	<p data-end="769" data-start="742">&#128295\; <strong data-end="767" data-start="745">Live Product Demos</strong></p>\n	</li>\n	<li data-end="804" data-start="770">\n	<p data-end="804" data-start="772">&#127891\; <strong data-end="802" data-start="775">Training Facility Tours</strong></p>\n	</li>\n	<li data-end="846" data-start="805">\n	<p data-end="846" data-start="807">&#127919\; <strong data-end="844" data-start="810">New Long-Distance Range Access</strong></p>\n	</li>\n	<li data-end="868" data-start="847">\n	<p data-end="868" data-start="849">&#127828\; <strong data-end="866" data-start="852">Free Lunch</strong></p>\n	</li>\n	<li data-end="907" data-start="869">\n	<p data-end="907" data-start="871">&#128165\; <strong data-end="907" data-start="874">Big Savings on Exclusive Gear</strong></p>\n	</li>\n</ul>\n\n<p data-end="1074" data-start="909">This isn&rsquo\;t just a sale&mdash\;it&rsquo\;s a full Black Rain experience! Bring your friends\, explore the facility\, and score great deals while enjoying everything BRO has to offer.</p>\n\n<p data-end="1203" data-start="1076">&#128073\; <strong data-end="1124" data-start="1079">Scan the QR code on the flyer to register</strong> and be eligible for the door prizes and free lunch. You won&rsquo\;t want to miss it!</p>\n
LOCATION:Black Rain Storefront\, 11633 Iris Rd.\, Neosho\, MO 64850
UID:e.2144.16623
SEQUENCE:3
DTSTAMP:20260424T073829Z
URL:https://www.neoshocc.com/events/details/storefront-tent-sale-event-16623
END:VEVENT

END:VCALENDAR
