BEGIN:VCALENDAR
VERSION:2.0
PRODID:-//ChamberMaster//Event Calendar 2.0//EN
METHOD:PUBLISH
X-PUBLISHED-TTL:P3D
REFRESH-INTERVAL:P3D
CALSCALE:GREGORIAN
BEGIN:VEVENT
DTSTART:20250823T160000Z
DTEND:20250823T180000Z
X-MICROSOFT-CDO-ALLDAYEVENT:FALSE
SUMMARY:STORYTELLING DAY
DESCRIPTION:Celebrate the 109th birthday of the National Park Service by learning about U.S. culture and history through storytelling! Join us for a time of guest speakers and storytellers.
X-ALT-DESC;FMTTYPE=text/html:Celebrate the 109th birthday of the National Park Service by learning about U.S. culture and history through storytelling! Join us for a time of guest speakers and storytellers.
LOCATION:George Washington Carver National Monument 5646 Carver Rd Diamond\, MO. 64840
UID:e.2144.17547
SEQUENCE:3
DTSTAMP:20260424T043127Z
URL:https://www.neoshocc.com/events/details/storytelling-day-08-23-2025-17547
END:VEVENT

END:VCALENDAR
