BEGIN:VCALENDAR
VERSION:2.0
PRODID:-//ChamberMaster//Event Calendar 2.0//EN
METHOD:PUBLISH
X-PUBLISHED-TTL:P3D
REFRESH-INTERVAL:P3D
CALSCALE:GREGORIAN
BEGIN:VEVENT
DTSTART:20250119T000000Z
DTEND:20250119T030000Z
X-MICROSOFT-CDO-ALLDAYEVENT:FALSE
SUMMARY:Stover Hollow Live Music at Eastside Social
DESCRIPTION:?? Stover Hollow Live at Eastside Social! ??\n\nJoin us on January 18th from 6 pm to 9 pm for a night of great music by Stover Hollow! Bring your crew\, grab a drink\, and settle in for an evening of good vibes and even better tunes. ??
X-ALT-DESC;FMTTYPE=text/html:<p><span style="font-size:11px"><span style="font-family:arial\,helvetica\,sans-serif"><span style="color:rgb(35\, 31\, 32)">?? </span><strong>Stover Hollow Live at Eastside Social!</strong><span style="color:rgb(35\, 31\, 32)"> ??</span><br />\n<span style="color:rgb(35\, 31\, 32)">Join us on </span><strong>January 18th</strong><span style="color:rgb(35\, 31\, 32)"> from </span><strong>6 pm to 9 pm</strong><span style="color:rgb(35\, 31\, 32)"> for a night of great music by Stover Hollow! Bring your crew\, grab a drink\, and settle in for an evening of good vibes and even better tunes. ??</span></span></span></p>\n
LOCATION:Eastside Social 113 S Washington St Neosho\, Mo
UID:e.2144.14381
SEQUENCE:3
DTSTAMP:20260424T150901Z
URL:https://www.neoshocc.com/events/details/stover-hollow-live-music-at-eastside-social-14381
END:VEVENT

END:VCALENDAR
