BEGIN:VCALENDAR
VERSION:2.0
PRODID:-//ChamberMaster//Event Calendar 2.0//EN
METHOD:PUBLISH
X-PUBLISHED-TTL:P3D
REFRESH-INTERVAL:P3D
CALSCALE:GREGORIAN
BEGIN:VEVENT
DTSTART;VALUE=DATE:20250807
DTEND;VALUE=DATE:20250810
TRANSP:TRANSPARENT
X-MICROSOFT-CDO-ALLDAYEVENT:TRUE
SUMMARY:Stuff the Bag Sale!
DESCRIPTION:Who's ready to Stuff the Bag and snag some serious deals?!\n\nMagnolia & Sunshine is kicking off their STUFF THE BAG SALE tonight and you do NOT want to miss it!\n\n  101 S. Washington St.\, Neosho\n\n   Thursday\, Aug. 7 | 6PM 8PM\n\n   Friday\, Aug. 8 & Saturday\, Aug. 9 | 10AM 5PM\n\n  Enjoy 50% OFF everything you can fit in the bag!\n\nIt's the perfect time to stock up\, support local\, and treat yourself!\n\nLet's show up and show some love to one of our favorite downtown shops!  \n\n#NeoshoChamber #SupportLocal #ShopNeosho #MagnoliaAndSunshine #StuffTheBag #DowntownNeosho
X-ALT-DESC;FMTTYPE=text/html:<p data-end="260" data-start="86">&#128717\;&#65039\; Who&rsquo\;s ready to <em data-end="120" data-start="105">Stuff the Bag</em> and snag some serious deals?!<br data-end="153" data-start="150" />\n<strong data-end="176" data-start="153">Magnolia &amp\; Sunshine</strong> is kicking off their <strong data-end="220" data-start="198">STUFF THE BAG SALE</strong> tonight&mdash\;and you do NOT want to miss it!</p>\n\n<p data-end="386" data-start="262">&#128205\; 101 S. Washington St.\, Neosho<br data-end="297" data-start="294" />\n&#128467\;&#65039\; <strong data-end="321" data-start="301">Thursday\, Aug. 7</strong> | 6PM&ndash\;8PM<br data-end="334" data-start="331" />\n&#128467\;&#65039\; <strong data-end="375" data-start="338">Friday\, Aug. 8 &amp\; Saturday\, Aug. 9</strong> | 10AM&ndash\;5PM</p>\n\n<p data-end="515" data-start="388">&#127881\; Enjoy <strong data-end="443" data-start="397">50% OFF everything you can fit in the bag!</strong><br data-end="446" data-start="443" />\nIt&rsquo\;s the perfect time to stock up\, support local\, and treat yourself!</p>\n\n<p data-end="684" data-is-last-node="" data-is-only-node="" data-start="517">Let&rsquo\;s show up and show some love to one of our favorite downtown shops! &#128150\;<br data-end="594" data-start="591" />\n#NeoshoChamber #SupportLocal #ShopNeosho #MagnoliaAndSunshine #StuffTheBag #DowntownNeosho</p>\n
LOCATION:101 S. Washington St.\, Neosho
UID:e.2144.18368
SEQUENCE:3
DTSTAMP:20260424T043010Z
URL:https://www.neoshocc.com/events/details/stuff-the-bag-sale-18368
END:VEVENT

END:VCALENDAR
