BEGIN:VCALENDAR
VERSION:2.0
PRODID:-//ChamberMaster//Event Calendar 2.0//EN
METHOD:PUBLISH
X-PUBLISHED-TTL:P3D
REFRESH-INTERVAL:P3D
CALSCALE:GREGORIAN
BEGIN:VEVENT
DTSTART:20250719T230000Z
DTEND:20250720T020000Z
X-MICROSOFT-CDO-ALLDAYEVENT:FALSE
SUMMARY:Neosho Local Live KARAOKE
DESCRIPTION:Neosho Local Live Karaoke \n\nSaturday\, July 19 | 6 9 PM\n\nDowntown Neosho\n\nJoin us for a fun summer evening in downtown Neosho! There will be karaoke at Eastside Social and activities happening all around the square. Bring your friends\, grab a drink\, and enjoy the vibe.
X-ALT-DESC;FMTTYPE=text/html:<p><strong>Neosho Local Live Karaoke&nbsp\;</strong><br />\n<strong>Saturday\, July 19 | 6&ndash\;9 PM</strong><br />\n<strong>Downtown Neosho</strong></p>\n\n<p>Join us for a fun summer evening in downtown Neosho! There will be karaoke at Eastside Social and activities happening all around the square. Bring your friends\, grab a drink\, and enjoy the vibe.</p>\n
LOCATION:Historic Downtown Neosho
UID:e.2144.16471
SEQUENCE:3
DTSTAMP:20260424T073834Z
URL:https://www.neoshocc.com/events/details/summer-block-party-karaoke-16471
END:VEVENT

END:VCALENDAR
