BEGIN:VCALENDAR
VERSION:2.0
PRODID:-//ChamberMaster//Event Calendar 2.0//EN
METHOD:PUBLISH
X-PUBLISHED-TTL:P3D
REFRESH-INTERVAL:P3D
CALSCALE:GREGORIAN
BEGIN:VEVENT
DTSTART:20240629T230000Z
DTEND:20240630T020000Z
X-MICROSOFT-CDO-ALLDAYEVENT:FALSE
SUMMARY:Summer Harvest Dinner @ Falcon Lake Farm
DESCRIPTION:Join us for an Unforgettable Night of Rustic Elegance and Community Celebration! Indulge in a tranquil evening under the stars: A culinary journey at Falcon Lake Farm! Delight in Chef's exquisite Six-Course Feast\, Crafted from the Freshest Local Ingredients. Let the melodies of local musicians sweep you away on the dance floor. Plus\, win prizes from participating vendors in our exciting raffles. And of course\, beverages are on us!\n\n \n\n\nClick on link for tickets - https://www.falconlakefarm.com/shop-1/p/falcon-lake-far-summer-harvest-dinner
X-ALT-DESC;FMTTYPE=text/html:<div>\n<p>Join us for an Unforgettable Night of Rustic Elegance and Community Celebration! Indulge in a tranquil evening under the stars: A culinary journey at Falcon Lake Farm! Delight in Chef&#39\;s exquisite Six-Course Feast\, Crafted from the Freshest Local Ingredients. Let the melodies of local musicians sweep you away on the dance floor. Plus\, win prizes from participating vendors in our exciting raffles. And of course\, beverages are on us!</p>\n\n<div>&nbsp\;</div>\n</div>\n\n<div>Click on link for tickets - <a href="https://www.falconlakefarm.com/shop-1/p/falcon-lake-far-summer-harvest-dinner">https://www.falconlakefarm.com/shop-1/p/falcon-lake-far-summer-harvest-dinner</a><br />\n&nbsp\;</div>\n
LOCATION:8250 Irene Lane Neosho\, MO 64850
UID:e.2144.12105
SEQUENCE:3
DTSTAMP:20260425T020603Z
URL:https://www.neoshocc.com/events/details/summer-harvest-dinner-falcon-lake-farm-12105
END:VEVENT

END:VCALENDAR
