BEGIN:VCALENDAR
VERSION:2.0
PRODID:-//ChamberMaster//Event Calendar 2.0//EN
METHOD:PUBLISH
X-PUBLISHED-TTL:P3D
REFRESH-INTERVAL:P3D
CALSCALE:GREGORIAN
BEGIN:VEVENT
DTSTART:20250715T150000Z
DTEND:20250715T160000Z
X-MICROSOFT-CDO-ALLDAYEVENT:FALSE
SUMMARY:Summer Reading Program\, Babaloo-Music and Fun
DESCRIPTION:Babaloo mixes music and comedy with high energy and loads of fun.\n\nHe has entertained kids for over 20 years.
X-ALT-DESC;FMTTYPE=text/html:Babaloo mixes music and comedy with high energy and loads of fun.<br />\nHe has entertained kids for over 20 years.
LOCATION:Neosho Newton County Library 201 West Spring Street Neosho MO 64850 Seneca Library 1216 Cherokee Street Seneca MO 64865
UID:e.2144.16617
SEQUENCE:3
DTSTAMP:20260424T055949Z
URL:https://www.neoshocc.com/events/details/summer-reading-program-babaloo-music-and-fun-16617
END:VEVENT

END:VCALENDAR
