BEGIN:VCALENDAR
VERSION:2.0
PRODID:-//ChamberMaster//Event Calendar 2.0//EN
METHOD:PUBLISH
X-PUBLISHED-TTL:P3D
REFRESH-INTERVAL:P3D
CALSCALE:GREGORIAN
BEGIN:VEVENT
DTSTART:20250603T150000Z
DTEND:20250603T160000Z
X-MICROSOFT-CDO-ALLDAYEVENT:FALSE
SUMMARY:Summer Reading Program\, Art at the Library\, Guaranty Bank\, Rock Painting
DESCRIPTION:Guaranty Bank will be hosting and reading picture books about money and savings at Neosho only.\n\nAfter the program\, kids can paint rocks to keep or share in the community as "Kindness Rocks" in Neosho and Seneca
X-ALT-DESC;FMTTYPE=text/html:Guaranty Bank will be hosting and reading picture books about money and savings at Neosho only.<br />\nAfter the program\, kids can paint rocks to keep or share in the community as &quot\;Kindness Rocks&quot\; in Neosho and Seneca<br />\n&nbsp\;
LOCATION:Neosho Newton County Library 201 West Spring Street Neosho Mo 64850 Seneca Library 1216 Cherokee St. Seneca MO 64865
UID:e.2144.16509
SEQUENCE:3
DTSTAMP:20260424T074000Z
URL:https://www.neoshocc.com/events/details/summer-reading-program-guaranty-bank-rock-painting-16509
END:VEVENT

END:VCALENDAR
