BEGIN:VCALENDAR
VERSION:2.0
PRODID:-//ChamberMaster//Event Calendar 2.0//EN
METHOD:PUBLISH
X-PUBLISHED-TTL:P3D
REFRESH-INTERVAL:P3D
CALSCALE:GREGORIAN
BEGIN:VEVENT
DTSTART:20250617T150000Z
DTEND:20250617T160000Z
X-MICROSOFT-CDO-ALLDAYEVENT:FALSE
SUMMARY:Summer Reading Program with Rich Davis
DESCRIPTION:Rich Davis is a picture book author and illustrator.\n\nHe will teach us to draw as a group.  Rick has everyone participating\, even the adults.
X-ALT-DESC;FMTTYPE=text/html:Rich Davis is a picture book author and illustrator.<br />\nHe will teach us to draw as a group.&nbsp\; Rick has everyone participating\, even the adults.<br />\n<br />\n&nbsp\;
LOCATION:Neosho Newton County Library 201 West Spring Street Neosho MO 64865 Seneca Library 1216 Cherokee Street Seneca MO 64865
UID:e.2144.16512
SEQUENCE:3
DTSTAMP:20260424T073644Z
URL:https://www.neoshocc.com/events/details/summer-reading-program-with-rich-davis-16512
END:VEVENT

END:VCALENDAR
