BEGIN:VCALENDAR
VERSION:2.0
PRODID:-//ChamberMaster//Event Calendar 2.0//EN
METHOD:PUBLISH
X-PUBLISHED-TTL:P3D
REFRESH-INTERVAL:P3D
CALSCALE:GREGORIAN
BEGIN:VEVENT
DTSTART:20250529T220000Z
DTEND:20250530T000000Z
X-MICROSOFT-CDO-ALLDAYEVENT:FALSE
SUMMARY:Summer Sip & Shop
DESCRIPTION:It's your midweek excuse to shop\, sip\, and snag the cutest new arrivals before anyone else!  \n\nEarn Rowe Bucks\n\nSpend $50+ and Spin the Prize Wheel\n\nGet first dibs on fresh styles\n\nEnjoy a drink while you browse\n\nGrab your besties and swing by for a fun night of fashion + freebies - we can't wait to see you!
X-ALT-DESC;FMTTYPE=text/html:It&#39\;s your midweek excuse to shop\, sip\, and snag the cutest new arrivals before anyone else!&nbsp\;&nbsp\;<br />\nEarn Rowe Bucks<br />\nSpend $50+ and Spin the Prize Wheel<br />\nGet first dibs on fresh styles<br />\nEnjoy a drink while you browse<br />\nGrab your besties and swing by for a fun night of fashion + freebies - we can&#39\;t wait to see you!
LOCATION:The Rowe Boutique 115 N Jefferson Neosho\, MO 64850
UID:e.2144.16612
SEQUENCE:3
DTSTAMP:20260424T091945Z
URL:https://www.neoshocc.com/events/details/summer-sip-shop-16612
END:VEVENT

END:VCALENDAR
