BEGIN:VCALENDAR
VERSION:2.0
PRODID:-//ChamberMaster//Event Calendar 2.0//EN
METHOD:PUBLISH
X-PUBLISHED-TTL:P3D
REFRESH-INTERVAL:P3D
CALSCALE:GREGORIAN
BEGIN:VEVENT
DTSTART:20250621T150000Z
DTEND:20250621T170000Z
X-MICROSOFT-CDO-ALLDAYEVENT:FALSE
SUMMARY:Summer Solstice Hike
DESCRIPTION:Summer Solstice Hike Free Class Sponsored by U.S. Bank for ages 13+\n\nJune 21st 10 am at Wildcat Park- Wildcat Glades Education Cottage\n\nWhat better way to welcome summer than to spend your evening out on the trails? June 21st is the longest day of the year\, & Wildcat volunteers plan to take advantage of the extra sunlight. Join us to hike the entire 4-mile trail through Wildcat Park! This hike is for those that can handle long hikes & periods of steep/rough terrain. Bring your hiking poles (if you want to!)\, hiking shoes\, water & small snack. Participants will learn what our Nature Group does\, & learn tree identifications. This program has limited capacity\, so registration is required.  Please visit our Facebook page\, email robin@wildcatglades.org
X-ALT-DESC;FMTTYPE=text/html:<strong><em><u>Summer Solstice Hike </u></em></strong><em>Free Class Sponsored by U.S. Bank for ages 13+</em><br />\n<em>June 21<sup>st</sup> 10 am at Wildcat Park- Wildcat Glades Education Cottage</em><br />\nWhat better way to welcome summer than to spend your evening out on the trails? June 21<sup>st</sup> is the longest day of the year\, &amp\; Wildcat volunteers plan to take advantage of the extra sunlight. Join us to hike the entire 4-mile trail through Wildcat Park! This hike is for those that can handle long hikes &amp\; periods of steep/rough terrain. Bring your hiking poles (if you want to!)\, hiking shoes\, water &amp\; small snack. Participants will learn what our Nature Group does\, &amp\; learn tree identifications. This program has limited capacity\, so registration is required.&nbsp\; Please visit our Facebook page\, email <a href="mailto:robin@wildcatglades.org"><span style="color:#0563C1">robin@wildcatglades.org</span></a>
LOCATION:Wildcat Park\, Joplin Missouri Education Cottage 301 W Riviera Road Joplin MO 64804
UID:e.2144.16498
SEQUENCE:3
DTSTAMP:20260424T092033Z
URL:https://www.neoshocc.com/events/details/summer-solstice-hike-16498
END:VEVENT

END:VCALENDAR
