BEGIN:VCALENDAR
VERSION:2.0
PRODID:-//ChamberMaster//Event Calendar 2.0//EN
METHOD:PUBLISH
X-PUBLISHED-TTL:P3D
REFRESH-INTERVAL:P3D
CALSCALE:GREGORIAN
BEGIN:VEVENT
DTSTART:20230825T233000Z
DTEND:20230826T013000Z
X-MICROSOFT-CDO-ALLDAYEVENT:FALSE
SUMMARY:Sunflower Watercolor Class
DESCRIPTION:Join us for our first art class at the gallery!\n\n\n\nChristina (CASE Artworks) will be teaching everyone to paint a watercolor sunflower! If you've been in\, you may have noticed the large lightning bug painting of hers hanging in the gallery ?? \n\n\n\nThis class accessible to anyone of any (or no) experience. Perfect opportunity to get dinner early on the square\, and then come to the gallery for a fun art experience ??\n\n\n\n$50 per student. Each participant will leave with one frame-ready watercolor painting. All materials provided. \n\n\n\nAges 8 and up.  Minors must be accompanied by an adult taking the class with them. \n\n\n\nSome snacks will be provided by the gallery\, as well as wine for the adults\, and sparkling juice and other drinks for any kids or individuals who prefer non-alcohol beverages.  \n\n\n\nSpace is limited\, only 12 spots\, so contact the gallery ASAP to reserve yours! Message us here on Facebook or call the gallery at 417-312-8025. \n\n\n\n(Pre-payment required for reservation.)
X-ALT-DESC;FMTTYPE=text/html:Join us for our first art class at the gallery!<br />\n<br />\nChristina (CASE Artworks) will be teaching everyone to paint a watercolor sunflower! If you&rsquo\;ve been in\, you may have noticed the large lightning bug painting of hers hanging in the gallery ??&nbsp\;<br />\n<br />\nThis class accessible to anyone of any (or no) experience. Perfect opportunity to get dinner early on the square\, and then come to the gallery for a fun art experience ??<br />\n<br />\n$50 per student. Each participant will leave with one frame-ready watercolor painting. All materials provided.&nbsp\;<br />\n<br />\nAges 8 and up. &nbsp\;Minors must be accompanied by an adult taking the class with them.&nbsp\;<br />\n<br />\nSome snacks will be provided by the gallery\, as well as wine for the adults\, and sparkling juice and other drinks for any kids or individuals who prefer non-alcohol beverages. &nbsp\;<br />\n<br />\nSpace is limited\, only 12 spots\, so contact the gallery ASAP to reserve yours! Message us here on Facebook or call the gallery at 417-312-8025.&nbsp\;<br />\n<br />\n(Pre-payment required for reservation.)
LOCATION:Nighthawk Gallery 102 E Spring St Neosho\, MO 64850
UID:e.2144.10520
SEQUENCE:3
DTSTAMP:20260425T154035Z
URL:https://www.neoshocc.com/events/details/sunflower-watercolor-class-10520
END:VEVENT

END:VCALENDAR
