BEGIN:VCALENDAR
VERSION:2.0
PRODID:-//ChamberMaster//Event Calendar 2.0//EN
METHOD:PUBLISH
X-PUBLISHED-TTL:P3D
REFRESH-INTERVAL:P3D
CALSCALE:GREGORIAN
BEGIN:VEVENT
DTSTART:20240520T200000Z
DTEND:20240521T030000Z
X-MICROSOFT-CDO-ALLDAYEVENT:FALSE
SUMMARY:Support the Neosho Jr. High FBLA at Texas Roadhouse!
DESCRIPTION:Support the Neosho Junior High\, Future Business Leaders of America (FBLA) by eating at Texas Roadhouse on May 20th from 3PM-10PM.  Texas Roadhouse will be donating 10% of your total food purchase when you show this flyer.  All proceeds will help fund students who qualified for Nationals!
X-ALT-DESC;FMTTYPE=text/html:Support the Neosho Junior High\,<em> Future Business Leaders of America (FBLA) </em>by eating at Texas Roadhouse on May 20th from 3PM-10PM.&nbsp\; Texas Roadhouse will be donating 10% of your total food purchase when you show this flyer.&nbsp\; All proceeds will help fund students who qualified for Nationals!<br />\n&nbsp\;
LOCATION:Texas Roadhouse 3317 S. Rangeline Rd. Joplin\, MO
UID:e.2144.12104
SEQUENCE:3
DTSTAMP:20260425T031805Z
URL:https://www.neoshocc.com/events/details/support-the-neosho-jr-high-fbla-at-texas-roadhouse-12104
END:VEVENT

END:VCALENDAR
