BEGIN:VCALENDAR
VERSION:2.0
PRODID:-//ChamberMaster//Event Calendar 2.0//EN
METHOD:PUBLISH
X-PUBLISHED-TTL:P3D
REFRESH-INTERVAL:P3D
CALSCALE:GREGORIAN
BEGIN:VEVENT
DTSTART:20240419T230000Z
DTEND:20240420T230000Z
X-MICROSOFT-CDO-ALLDAYEVENT:FALSE
SUMMARY:Suspects & Sleuths: A Murder Mystery Dinner Benefiting Crowder College Scholarships
DESCRIPTION:Tickets are NOW ON SALE for Suspects & Sleuths\, presented by R.E. Smith Construction! Proceeds benefit Crowder College Scholarships!\n\n\n\nThe event takes place at Hidden Grace Venue in Neosho at 6 pm Friday\, April 19 & Saturday\, April 20 and features "Wrangle at Red Mountain Ranch" - A western themed mystery starring Crowder College Theater talent.\n\n\n\nJoin us on the night of your choice and we will treat you to a ranch-style buffet dinner as you help solve the mystery! Western-themed attire is encouraged but not required (prizes awarded). Reserved seats are $60 each or $350 per table of six and available online at onecau.se/suspects24 or by calling 417.455.5646. Limited seats available!\n\n\n\nFor more information\, email foundation@crowder.edu.
X-ALT-DESC;FMTTYPE=text/html:<span style="font-size:12px"><span style="font-family:arial\,helvetica\,sans-serif"><strong><span style="color:rgb(5\, 5\, 5)">Tickets are NOW ON SALE</span>&nbsp\;for Suspects &amp\; Sleuths\, presented by R.E. Smith Construction! Proceeds benefit Crowder College Scholarships!</strong><br />\n<br />\nThe event takes place at Hidden Grace Venue in Neosho at 6 pm Friday\, April 19 &amp\; Saturday\, April 20 and features &quot\;Wrangle at Red Mountain Ranch&quot\; - A western themed mystery starring Crowder College Theater talent.<br />\n<br />\nJoin us on the night of your choice and we will treat you to a ranch-style buffet dinner as you help solve the mystery! Western-themed attire is encouraged but not required (prizes awarded). Reserved seats are $60 each or $350 per table of six and available online at&nbsp\;</span></span><span style="color:#172B4D"><span style="font-family:segoe ui\,sans-serif"><span style="font-size:10.5pt"><a href="https://url.avanan.click/v2/___http:/onecau.se/suspects24___.YXAzOmNyb3dkZXJjb2xsZWdlOmE6bzplODNjNDc2MDQ2NjZiNThiODFkZDVlYzRjNmQ4NTFmNjo2OjdkNjE6YWYzMWEyYTg2ZWEyNDQyOTk3NmJmYjQwMDM1ZGM1YzU5ZWMwMmI3YTQ3MDM3YmI0OGU3NDQ3ODgxMjc1MTJkMDpoOlQ" title="Protected by Avanan: http://onecau.se/suspects24"><span style="color:#0052cc">onecau.se/suspects24</span></a>&nbsp\;</span></span></span><span style="font-size:12px"><span style="font-family:arial\,helvetica\,sans-serif">or by calling 417.455.5646. Limited seats available!<br />\n<br />\nFor more information\, email foundation@crowder.edu.</span></span>
LOCATION:Hidden Grace Venue\, 11936 Hammer Rd.\, Neosho\, MO
UID:e.2144.11283
SEQUENCE:3
DTSTAMP:20260425T031750Z
URL:https://www.neoshocc.com/events/details/suspects-sleuths-a-murder-mystery-dinner-benefiting-crowder-college-scholarships-04-19-2024-11283
END:VEVENT

END:VCALENDAR
