BEGIN:VCALENDAR
VERSION:2.0
PRODID:-//ChamberMaster//Event Calendar 2.0//EN
METHOD:PUBLISH
X-PUBLISHED-TTL:P3D
REFRESH-INTERVAL:P3D
CALSCALE:GREGORIAN
BEGIN:VEVENT
DTSTART:20230421T230000Z
DTEND:20230422T230000Z
X-MICROSOFT-CDO-ALLDAYEVENT:FALSE
SUMMARY:Suspects & Sleuths: A Murder Mystery Dinner Benefiting Crowder College Scholarships
DESCRIPTION:Tickets are NOW ON SALE for Suspects & Sleuths\, presented by R.E. Smith Construction! Proceeds benefit Crowder College Scholarships!\n\n\n\nThe event takes place at Hidden Grace Venue in Neosho at 6 pm Friday\, April 21 & Saturday\, April 22 and features "Mischief on Maui: A Hawaiian Who Dunnit" - A luau themed mystery written by Crowder College Theater Department Head NaTasha Davies and starring Crowder College Theater talent.\n\n\n\nJoin us on the night of your choice and we will treat you to a luau-style buffet dinner as you set sail and help solve the mystery! Hawaiian-themed attire is encouraged but not required. Reserved seats are $50 each or $300 per table of six and available online at https://one.bidpal.net/suspects23 or by calling 417.455.5646. Limited seats available!\n\n\n\nFor more information\, email foundation@crowder.edu.
X-ALT-DESC;FMTTYPE=text/html:<span style="font-size:12px"><span style="font-family:arial\,helvetica\,sans-serif"><strong><span style="color:rgb(5\, 5\, 5)">Tickets are NOW ON SALE</span>&nbsp\;for Suspects &amp\; Sleuths\, presented by R.E. Smith Construction! Proceeds benefit Crowder College Scholarships!</strong><br />\n<br />\nThe event takes place at Hidden Grace Venue in Neosho at 6 pm Friday\, April 21 &amp\; Saturday\, April 22 and features &quot\;Mischief on Maui: A Hawaiian Who Dunnit&quot\; - A luau themed mystery written by Crowder College Theater Department Head NaTasha Davies and starring Crowder College Theater talent.<br />\n<br />\nJoin us on the night of your choice and we will treat you to a luau-style buffet dinner as you set sail and help solve the mystery! Hawaiian-themed attire is encouraged but not required. Reserved seats are $50 each or $300 per table of six and available online at <a href="https://one.bidpal.net/suspects23">https://one.bidpal.net/suspects23</a> or by calling 417.455.5646. Limited seats available!<br />\n<br />\nFor more information\, email foundation@crowder.edu.</span></span>
LOCATION:Hidden Grace Venue\, 11936 Hammer Rd.\, Neosho\, MO
UID:e.2144.9403
SEQUENCE:3
DTSTAMP:20260425T214603Z
URL:https://www.neoshocc.com/events/details/suspects-sleuths-a-murder-mystery-dinner-benefiting-crowder-college-scholarships-9403
END:VEVENT

END:VCALENDAR
