BEGIN:VCALENDAR
VERSION:2.0
PRODID:-//ChamberMaster//Event Calendar 2.0//EN
METHOD:PUBLISH
X-PUBLISHED-TTL:P3D
REFRESH-INTERVAL:P3D
CALSCALE:GREGORIAN
BEGIN:VEVENT
DTSTART:20230420T160000Z
DTEND:20230420T180000Z
X-MICROSOFT-CDO-ALLDAYEVENT:FALSE
SUMMARY:SW Region International Trade Seminar
DESCRIPTION:SW Region International Trade Seminar\n\n\n\nNew to international trade and exporting or unsure where to begin? Or are you already exporting\, and seeking expansion opportunities into new markets? There are a number of resources available to assist with facility and work force expansion\, export training\, and financial assistance. Presenters will cover these topics\, as well as up-to-date insights into international markets and industry trade opportunities.
X-ALT-DESC;FMTTYPE=text/html:SW Region International Trade Seminar<br />\n<br />\nNew to international trade and exporting or unsure where to begin? Or are you already exporting\, and seeking expansion opportunities into new markets? There are a number of resources available to assist with facility and work force expansion\, export training\, and financial assistance. Presenters will cover these topics\, as well as up-to-date insights into international markets and industry trade opportunities.
LOCATION:This seminar will take place in the Liberty Room of The Joplin Area Chamber of Commerce. 320 E 4th Street\, Joplin\, MO 64801
UID:e.2144.9765
SEQUENCE:3
DTSTAMP:20260425T214604Z
URL:https://www.neoshocc.com/events/details/sw-region-international-trade-seminar-9765
END:VEVENT

END:VCALENDAR
