BEGIN:VCALENDAR
VERSION:2.0
PRODID:-//ChamberMaster//Event Calendar 2.0//EN
METHOD:PUBLISH
X-PUBLISHED-TTL:P3D
REFRESH-INTERVAL:P3D
CALSCALE:GREGORIAN
BEGIN:VEVENT
DTSTART:20260215T013000Z
DTEND:20260215T040000Z
X-MICROSOFT-CDO-ALLDAYEVENT:FALSE
SUMMARY:"Sweetheart's Studio" Paint Party
DESCRIPTION:Join us for a special couples painting! Each person paints one half of the picture to make a whole. The evening will include special appetizers and desserts\, as well as a romantic gift for each of the ladies! Price is $75 per couple and includes all supplies to create the double canvas painting\, appetizers\, dessert\, and a special gift for all the ladies present.
X-ALT-DESC;FMTTYPE=text/html:<span style="background-color:rgb(255\, 255\, 255)\; color:rgb(63\, 75\, 99)\; font-family:ctsans\,sans-serif\; font-size:14px">Join us for a special couples painting! Each person paints one half of the picture to make a whole. The evening will include special appetizers and desserts\, as well as a romantic gift for each of the ladies! Price is $75 per couple and includes all supplies to create the double canvas painting\, appetizers\, dessert\, and a special gift for all the ladies present.</span>
LOCATION:Country Charm Event Venue 18389 E. Hwy 86 Neosho\, MO 64850
UID:e.2144.18916
SEQUENCE:3
DTSTAMP:20260423T193340Z
URL:https://www.neoshocc.com/events/details/sweetheart-s-studio-paint-party-18916
END:VEVENT

END:VCALENDAR
