BEGIN:VCALENDAR
VERSION:2.0
PRODID:-//ChamberMaster//Event Calendar 2.0//EN
METHOD:PUBLISH
X-PUBLISHED-TTL:P3D
REFRESH-INTERVAL:P3D
CALSCALE:GREGORIAN
BEGIN:VEVENT
DTSTART:20250915T130000Z
DTEND:20250915T230000Z
X-MICROSOFT-CDO-ALLDAYEVENT:FALSE
SUMMARY:SWMO FCA Golf Classic
DESCRIPTION:Thanks for your interest in our 2025 Golf Classic--our 7th annual! You can register yourself and/or your team below. NOTE: Tee times are subject to change based on number of teams. \n\nAll proceeds from the SWMO Golf Classic go towards SWMO FCA and our mission to "lead every coach and athlete in a growing relationship with Jesus and His church". \n\nBasic Info:\n\n\n	Date/Location: Monday\, September 15\, 2025/Twin Hills Golf and Country Club\n	Time: \n	\n		Morning Tee Time: 8am Shotgun Start (warm-up/registration at 7am)\n		Lunch will be served at 1145am\n		Afternoon Tee Time: 1pm Shotgun Start (Warm/up registration at 12pm)\n	\n	\n	Cost:\n	\n		$200/player or $800/team \n	\n	\n	Registration Includes:\n	\n		Greens Fee/Cart \n		Lunch \n		FCA SWAG Bag (Golf Balls\, FCA Polo\, snacks\, and more)\n	\n	\n	Prizes and Awards after round \n	Register by August 15th to receive FCA Polo
X-ALT-DESC;FMTTYPE=text/html:<p>Thanks for your interest in our 2025&nbsp\;Golf Classic--our 7th annual! You can register yourself and/or your team below. NOTE: Tee times are subject to change based on number of teams.&nbsp\;</p>\n\n<p><em><strong>All proceeds from the SWMO Golf Classic go towards&nbsp\;SWMO FCA and our mission to &quot\;lead every coach and athlete in a growing relationship with Jesus and His church&quot\;.&nbsp\;</strong></em></p>\n\n<p>Basic Info:</p>\n\n<ul>\n	<li>Date/Location:&nbsp\;Monday\, September 15\, 2025/Twin Hills Golf and Country Club</li>\n	<li>Time:&nbsp\;\n	<ul>\n		<li>Morning Tee Time: 8am Shotgun Start (warm-up/registration at 7am)</li>\n		<li>Lunch will be served at 1145am</li>\n		<li>Afternoon Tee Time:&nbsp\;1pm Shotgun Start (Warm/up registration at 12pm)</li>\n	</ul>\n	</li>\n	<li>Cost:\n	<ul>\n		<li>$200/player or $800/team&nbsp\;</li>\n	</ul>\n	</li>\n	<li>Registration Includes:\n	<ul>\n		<li>Greens Fee/Cart&nbsp\;</li>\n		<li>Lunch&nbsp\;</li>\n		<li>FCA SWAG Bag (Golf Balls\, FCA Polo\, snacks\, and more)</li>\n	</ul>\n	</li>\n	<li>Prizes and Awards after round&nbsp\;</li>\n	<li>Register by&nbsp\;August 15th to receive FCA Polo</li>\n</ul>\n
LOCATION:Twin Hills Golf and Country Club 2019 S Country Club Dr Joplin\, MO 64804
UID:e.2144.17555
SEQUENCE:3
DTSTAMP:20260424T030638Z
URL:https://www.neoshocc.com/events/details/swmo-fca-golf-classic-09-15-2025-17555
END:VEVENT

END:VCALENDAR
