BEGIN:VCALENDAR
VERSION:2.0
PRODID:-//ChamberMaster//Event Calendar 2.0//EN
METHOD:PUBLISH
X-PUBLISHED-TTL:P3D
REFRESH-INTERVAL:P3D
CALSCALE:GREGORIAN
BEGIN:VEVENT
DTSTART:20240826T130000Z
DTEND:20240826T220000Z
X-MICROSOFT-CDO-ALLDAYEVENT:FALSE
SUMMARY:SWMO FCA Golf Classic
DESCRIPTION:The SWMO FCA Golf Classic is a fundraising tournament for SWMO FCA.\n\n\n\nThe Mission of SWMO FCA is to lead coaches and athletes in a growing relationship with Jesus and His church.\n\n\n\nThis event helps raise money for our staff and volunteers to be on local school campuses building relationships with coaches and athletes to help them use their influence to advance the Gospel.
X-ALT-DESC;FMTTYPE=text/html:The SWMO FCA Golf Classic is a fundraising tournament for SWMO FCA.<br />\n<br />\nThe Mission of SWMO FCA is to lead coaches and athletes in a growing relationship with Jesus and His church.<br />\n<br />\nThis event helps raise money for our staff and volunteers to be on local school campuses building relationships with coaches and athletes to help them use their influence to advance the Gospel.&nbsp\;
LOCATION:Twin Hills Golf and Country Club 2019 S Country Club Dr. Joplin\, MO 64804
UID:e.2144.12243
SEQUENCE:3
DTSTAMP:20260424T215448Z
URL:https://www.neoshocc.com/events/details/swmo-fca-golf-classic-12243
END:VEVENT

END:VCALENDAR
