BEGIN:VCALENDAR
VERSION:2.0
PRODID:-//ChamberMaster//Event Calendar 2.0//EN
METHOD:PUBLISH
X-PUBLISHED-TTL:P3D
REFRESH-INTERVAL:P3D
CALSCALE:GREGORIAN
BEGIN:VEVENT
DTSTART:20250427T230000Z
DTEND:20250428T010000Z
X-MICROSOFT-CDO-ALLDAYEVENT:FALSE
SUMMARY:SWMO FCA Legacy Banquet
DESCRIPTION:SWMO FCA invites you to our Annual Legacy Banquet on Sunday\, April 27 at 6pm at Hope City Church in Joplin. Mike Matheny (former MLB player and coach) will be our Guest Speaker. We will also have testimonies from local athletes and coaches. \n\n\n\nThis is a FREE event\, but we do require those wanting to attend to register. \n\n\n\nRegister Here: https://form.jotform.com/swmofca/legacy-banquet
X-ALT-DESC;FMTTYPE=text/html:SWMO FCA invites you to our Annual Legacy Banquet on Sunday\, April 27 at 6pm at Hope City Church in Joplin. Mike Matheny (former MLB player and coach) will be our Guest Speaker. We will also have testimonies from local athletes and coaches.&nbsp\;<br />\n<br />\nThis is a FREE event\, but we do require those wanting to attend to register.&nbsp\;<br />\n<br />\nRegister Here:&nbsp\;<span style="background-color:rgb(243\, 243\, 254)\; color:rgb(111\, 118\, 167)\; font-family:circular\,system\,-apple-system\,.sfnstext-regular\,san francisco\,roboto\,segoe ui\,helvetica neue\,lucida grande\,sans-serif\; font-size:14px">https://form.jotform.com/swmofca/legacy-banquet</span>
LOCATION:Hope City Church Joplin\, MO
UID:e.2144.16380
SEQUENCE:3
DTSTAMP:20260424T120157Z
URL:https://www.neoshocc.com/events/details/swmo-fca-legacy-banquet-16380
END:VEVENT

END:VCALENDAR
