BEGIN:VCALENDAR
VERSION:2.0
PRODID:-//ChamberMaster//Event Calendar 2.0//EN
METHOD:PUBLISH
X-PUBLISHED-TTL:P3D
REFRESH-INTERVAL:P3D
CALSCALE:GREGORIAN
BEGIN:VEVENT
DTSTART:20230302T133000Z
DTEND:20230302T150000Z
X-MICROSOFT-CDO-ALLDAYEVENT:FALSE
SUMMARY:Teen Challenge Business Persons Breakfast
DESCRIPTION:Annual Business Breakfast\n\nAdult & Teen Challenge of the 4-States Student Life Center
X-ALT-DESC;FMTTYPE=text/html:Annual Business Breakfast<br />\nAdult &amp\; Teen Challenge of the 4-States Student Life Center
LOCATION:18527 E. HWY 86 Neosho\, MO
UID:e.2144.8956
SEQUENCE:3
DTSTAMP:20260425T232208Z
URL:https://www.neoshocc.com/events/details/teen-challenge-business-persons-breakfast-8956
END:VEVENT

END:VCALENDAR
